BEGIN:VCALENDAR
VERSION:2.0
CALSCALE:GREGORIAN
METHOD:PUBLISH
X-WR-TIMEZONE:Australia/Sydney
BEGIN:VTIMEZONE
TZID:Australia/Sydney
BEGIN:STANDARD
TZNAME:AEST
END:STANDARD
END:VTIMEZONE
BEGIN:VEVENT
DTSTART;TZID=Australia/Sydney:20260501
DTEND;TZID=Australia/Sydney:20260501
DTSTAMP:20260424T011317
UID:154
SUMMARY:Athletics Day Friday 1st May
DESCRIPTION:




School will be open for those students not attending. Parents will have to provide own transport. More information and permissions will be given via uEducateUs.


SEQUENCE:0
STATUS:CONFIRMED
TRANSP:OPAQUE
END:VEVENT
END:VCALENDAR